BEGIN:VCALENDAR
METHOD:REQUEST
PRODID:Microsoft Exchange Server 2010
VERSION:2.0
BEGIN:VTIMEZONE
TZID:Pacific Standard Time
BEGIN:STANDARD
DTSTART:16010101T020000
TZOFFSETFROM:-0700
TZOFFSETTO:-0800
RRULE:FREQ=YEARLY;INTERVAL=1;BYDAY=1SU;BYMONTH=11
END:STANDARD
BEGIN:DAYLIGHT
DTSTART:16010101T020000
TZOFFSETFROM:-0800
TZOFFSETTO:-0700
RRULE:FREQ=YEARLY;INTERVAL=1;BYDAY=2SU;BYMONTH=3
END:DAYLIGHT
END:VTIMEZONE
BEGIN:VEVENT
ORGANIZER;CN=Michael Brooks:mailto:michaelb@king.org
ATTENDEE;ROLE=REQ-PARTICIPANT;PARTSTAT=NEEDS-ACTION;RSVP=TRUE;CN='SBE16 Boa
 rd':mailto:sbe16-board@sea.sbe16.org
ATTENDEE;ROLE=OPT-PARTICIPANT;PARTSTAT=NEEDS-ACTION;RSVP=TRUE;CN='Brian Wal
 ker':mailto:brianw@bswusa.com
ATTENDEE;ROLE=OPT-PARTICIPANT;PARTSTAT=NEEDS-ACTION;RSVP=TRUE;CN=Jon Kaspri
 ck - SBE:mailto:jon.kasprick.sbe16@gmail.com
ATTENDEE;ROLE=OPT-PARTICIPANT;PARTSTAT=NEEDS-ACTION;RSVP=TRUE;CN=Michael Gi
 lbert:mailto:imaengineer@comcast.net
ATTENDEE;ROLE=OPT-PARTICIPANT;PARTSTAT=NEEDS-ACTION;RSVP=TRUE;CN=Dave Raten
 er:mailto:ceradio@aol.com
ATTENDEE;ROLE=OPT-PARTICIPANT;PARTSTAT=NEEDS-ACTION;RSVP=TRUE;CN=Jim Dalke:
 mailto:jim@dalke.com
DESCRIPTION;LANGUAGE=en-US:Michael Brooks is inviting you to a scheduled Zo
 om meeting.\nJoin Zoom Meeting\nhttps://us02web.zoom.us/j/89779296631?pwd=
 6CFBhdJRihy9xHIWjOtqw58sPNKrqZ.1\n\nMeeting ID: 897 7929 6631\nPasscode: 0
 08338\n\n---\n\nOne tap mobile\n+12532158782\,\,89779296631#\,\,\,\,*00833
 8# US (Tacoma)\n+12532050468\,\,89779296631#\,\,\,\,*008338# US\n\nJoin in
 structions\nhttps://us02web.zoom.us/meetings/89779296631/invitations?signa
 ture=b8TbmEbTh-e7HPITP_9LtfPsi1tFbAZZkMJw53zu0iw\n\n______________________
 __________________________________________________________\nMicrosoft Team
 s meeting\nJoin: https://teams.microsoft.com/meet/237590299900157?p=IcLwnv
 R2jCwWIaFScs\nMeeting ID: 237 590 299 900 157\nPasscode: Rb26qt7x\n_______
 _________________________\nNeed help?<https://aka.ms/JoinTeamsMeeting?omkt
 =en-US> | System reference<https://teams.microsoft.com/l/meetup-join/19%3a
 meeting_YzhlY2RmMjctM2RiZC00ZjVlLWJlNjAtOTM2M2QwYTMwYjhk%40thread.v2/0?con
 text=%7b%22Tid%22%3a%222ceafb25-db10-4b91-90f4-f8cb2825f46e%22%2c%22Oid%22
 %3a%224926feab-a6e1-45d7-b485-085449cf0c88%22%7d>\nFor organizers: Meeting
  options<https://teams.microsoft.com/meetingOptions/?organizerId=4926feab-
 a6e1-45d7-b485-085449cf0c88&tenantId=2ceafb25-db10-4b91-90f4-f8cb2825f46e&
 threadId=19_meeting_YzhlY2RmMjctM2RiZC00ZjVlLWJlNjAtOTM2M2QwYTMwYjhk@threa
 d.v2&messageId=0&language=en-US>\n________________________________________
 ________________________________________\n\n
UID:040000008200E00074C5B7101A82E0080000000010DD432631CBDC01000000000000000
 010000000B0B345AC7BD4EE42B8ADDC1B7EFC900B
SUMMARY;LANGUAGE=en-US:SBE Chapter 16 Monthly Board Meeting
DTSTART;TZID=Pacific Standard Time:20260413T183000
DTEND;TZID=Pacific Standard Time:20260413T193000
CLASS:PUBLIC
PRIORITY:5
DTSTAMP:20260413T173529Z
TRANSP:OPAQUE
STATUS:CONFIRMED
SEQUENCE:0
LOCATION;LANGUAGE=en-US:https://us02web.zoom.us/j/89779296631?pwd=6CFBhdJRi
 hy9xHIWjOtqw58sPNKrqZ.1
X-MICROSOFT-CDO-APPT-SEQUENCE:0
X-MICROSOFT-CDO-OWNERAPPTID:-1217574934
X-MICROSOFT-CDO-BUSYSTATUS:TENTATIVE
X-MICROSOFT-CDO-INTENDEDSTATUS:BUSY
X-MICROSOFT-CDO-ALLDAYEVENT:FALSE
X-MICROSOFT-CDO-IMPORTANCE:1
X-MICROSOFT-CDO-INSTTYPE:0
X-MICROSOFT-SKYPETEAMSMEETINGURL:https://teams.microsoft.com/l/meetup-join/
 19%3ameeting_YzhlY2RmMjctM2RiZC00ZjVlLWJlNjAtOTM2M2QwYTMwYjhk%40thread.v2/
 0?context=%7b%22Tid%22%3a%222ceafb25-db10-4b91-90f4-f8cb2825f46e%22%2c%22O
 id%22%3a%224926feab-a6e1-45d7-b485-085449cf0c88%22%7d
X-MICROSOFT-SCHEDULINGSERVICEUPDATEURL:https://api.scheduler.teams.microsof
 t.com/teams/2ceafb25-db10-4b91-90f4-f8cb2825f46e/4926feab-a6e1-45d7-b485-0
 85449cf0c88/19_meeting_YzhlY2RmMjctM2RiZC00ZjVlLWJlNjAtOTM2M2QwYTMwYjhk@th
 read.v2/0
X-MICROSOFT-SKYPETEAMSPROPERTIES:{"cid":"19:meeting_YzhlY2RmMjctM2RiZC00ZjV
 lLWJlNjAtOTM2M2QwYTMwYjhk@thread.v2"\,"private":true\,"type":0\,"mid":0\,"
 rid":0\,"uid":null}
X-MICROSOFT-DONOTFORWARDMEETING:FALSE
X-MICROSOFT-DISALLOW-COUNTER:FALSE
X-MICROSOFT-REQUESTEDATTENDANCEMODE:DEFAULT
X-MICROSOFT-ISRESPONSEREQUESTED:TRUE
X-MICROSOFT-LOCATIONS:[ { "DisplayName" : "https://us02web.zoom.us/j/897792
 96631?pwd=6CFBhdJRihy9xHIWjOtqw58sPNKrqZ.1"\, "LocationAnnotation" : ""\, 
 "LocationSource" : 0\, "Unresolved" : false\, "LocationUri" : "" } ]
BEGIN:VALARM
DESCRIPTION:REMINDER
TRIGGER;RELATED=START:-PT15M
ACTION:DISPLAY
END:VALARM
END:VEVENT
END:VCALENDAR
